Workbook
Name ContractType: [1]B1_BidderInfo!$C$38

Sheet Pick List
C4: Yes | D4: Automatic | E4: Proposed New Generating Facility | J4: Blackstart PPA | O4: Combustion Turbine (CT)
C5: No | D5: Manual | E5: Generating Facility requesting Surplus Interconnection Service | J5: Build-Transfer Proposal with Black Start capability | O5: Combined Cycle (CC), or CT that is part of Combined Cycle unit
E6: Fast Track Process for Small Generating Facility | J6: Company Proposal with Black Start capability | O6: Hydro
E7: Other | O7: Diesel (RICE) unit
O8: Standalone Storage
O9: Solar + Storage
O10: Wind + Storage
C11: Commercially operable capacity only | F11: Build-Transfer | O11: Other
C12: Commercially operable & Blackstart capacity | F12: Power Purchase Agreement
F13: Company Self-Build (no contract) | J13: 1
J14: 2 | M14: Biomass | P14: Residential
J15: 3 | M15: Gas Thermal | P15: Small Business
C16: Contract Type NOIR | D16: Plant Type | J16: 4 | M16: Geothermal | P16: Large C&I
C17: Build Transfer | D17: Hybrid (>1 Generation Technology) | M17: Hydro | P17: Other
C18: Combination | D18: Non-Hybrid (1 Generation Technology) | M18: Solar PV
C19: Development Transfer | M19: Storage - Battery | R19: Biomass
C20: Existing Facility Sale | I20: Physical Work Test | M20: Storage - Other | R20: Gas Thermal
C21: Power Purchase Agreement | I21: 5% Safe Harbor | M21: Wind | R21: Geothermal
C22: Self Build | M22: Demand Response | R22: Hydro
M23: Other | R23: Solar PV
R24: Wind
R25: Other
C26: Existing Facility - As Is | H26: Physical equipment directly controlled by applicant | M26: Customer Chooses How To Change Load
C27: Existing Facility - Repower | H27: Economic signal sent to customer (incentive or penalty) | M27: Aggregator Chooses How to Change Load
C28: Existing Facility - Equipment Addition | H28: Other
C29: New Facility
C30: Other
H32: Northern Natural Gas | M32: Repower - Replacement or modification of existing generation facility with same generation type
H33: WBI Transmission Co | M33: Replacement of existing facility, but with modified fuel type
H34: Viking Gas Transmission Co | M34: Surplus interconnection at existing facility (new resource added to existing generation facility)
H35: Northern Border Pipeline Co | M35: Continued operation at an existing MISO POI without modification
C37: Central | E37: One-In-Portrait (1P)
C38: String | E38: Two-In-Portrait (2P) | H38: MISO GIA | M38: As-Is
E39: Two-In-Landscape | H39: Grandfathered | M39: Replacing
E40: Other (Describe in Notes) | M40: Combination
M41: No Longer Required
E43: Not a DIR | G43: Northern Natural Gas | J43: New Interconnection
E44: Is a DIR | G44: WBI Transmission Co | J44: Existing Interconnection
G45: Viking Gas Transmission Co | J45: Other (please explain in Notes section further below)
G46: Northern Border Pipeline Co

Sheet Applicant Info and References
B1: Applicant and Project Information
B2: 800 MW Docket
B4: Who Should Complete this Form: This form is intended for all applications to complete. The information below helps categorize each proposal for modeling and evaluation of the attribute matrix approved by the Minnesota PUC on 10/05/2023, and provides information related but not limited to Attributes 1, 4, and 59.
B7: Application Name (from the Cover Letter, Summary, and/or Title Page of the project application)
B8: (from Minn. R. 7849.0200, Subp. 4, Minn. R. 7829.2500, Subp. 2, and/or Minn. R. 0200, Subp. 2)
B10: Does the Application provide more than one cost option?
B11: (if Application provides more than one cost option, please complete the next question)
B12: If the Application includes more than one cost option, please describe which option in the Application corresponds to the modeling inputs presented in this data intake form. Please submit a separate data intake form for each option.
B14: Company Information
B15: Name
B16: Headquarter Address
B17: Organization Type (Corp, LLC, Partnership, etc)
... B48: List the five largest developed and fully operational projects in the United States and/or Canada that are similar to the bid technology
B49: Project Name and Location | C49: Bidder's Role | D49: Size (MW)
B56: Additional Previous Experience - Demand Response
B57: Provide the name of the largest retail market in which applicant has been active.
B59: Which years was the applicant active in this market?
B61: List all wholesale markets in which applicant has been active
B62: Wholesale Market | C62: List the years in which applicant was active | D62: Size (MW)
B69: Project Overview (All Applications)
B70: Name
B71: Facility Category | D71: (select from drop-down)
B72: Description if Facility Category is "Other"
B73: Confirm black start and commercial operable components of proposal | D73: (select from drop-down)
B74: Type of Financial Contract(s) Proposed | D74: (select from drop-down)
B76: Does the project contain multiple resource types/hybrid project (example: solar + battery) | D76: (select from drop-down)
B77: If proposal is a hybrid project, indicate the number of resource types | D77: (select from drop-down)
B78: Commercial Operation Date (COD)
B80: Project Location(s)
B82: City
B83: County
B84: State
B85: Latitude (center of (each) project) | D85: (decimal degrees)
B86: Longitude (center of (each) project) | D86: (decimal degrees)
B89: Acknowledgment - For Build-Transfer and PPA Applications Only
C91: Build-Transfer Applications
C92: Applicant has read the BT Term Sheet applicable to its project type and is aware that the terms in the Company's Term Sheets are nonnegotiable and represent the basis for negotiations of a final PSA should the application be selected by Minnesota PUC.
C95: PPA Applications
C96: Applicant has read the Model PPA applicable to its project type and is aware that the terms in the Company's Model PPA are nonnegotiable and represent the basis for negotiations of a final PPA should the application be selected by Minnesota PUC.
B100: Website Acknowledgment
...

Sheet GenTech&BOP
B1: Generator, Demand Response, and Balance of Plant Info (Commercially Operable Generation)
B2: ='Applicant Info and References'!B2 -> 800 MW Docket
B4: Who Should Complete this Form: This form is intended for all applications to complete. The information below provides further detail about the commercially-operable portion of each proposal to prepare for the modeling and evaluation of the attribute matrix approved by the Minnesota PUC on 10/05/2023. The form also provides information related but not limited to Attribute 2, 4, 12, 13, 14, 33, 34, 44, 45, 46 and 47 for some or all application types. ADDITIONAL NOTE 1: Information about any black start generating units that are not also commercially operable should be provided on the "Black Start Inputs" form, not this form.
B7: Directions: Report details on each resource type as a different technology type below. For example, for a solar + storage asset, report the solar component as "Tech Type 1" and the storage component as "Tech Type 2".
C10: Tech Type 1 | E10: Tech Type 2 | G10: Tech Type 3 | I10: Tech Type 4
A11: 1 | B11: Generation Technology Type | J11: (select from drop-down)
B12: Additional Description (Gas Thermal & Other)
B13: Primary Fuel Type
B14: Firm Fuel? (Primary) | J14: (select from drop-down)
B15: Secondary Fuel Type
B16: Firm Fuel? (Secondary) | J16: (select from drop-down)
B17: Is unit compatible with hydrogen blend(s)? | J17: (select from drop-down)
B18: For generation with physical locations (not Demand Response):
B19: Gross Nameplate Capacity (MW) - DC for solar/battery
B20: Point of Delivery Net Nameplate Capacity (MW-AC)
B21: Capacity Factor (%)
B22: Storage Duration of Nameplate Capacity (hours)
A24: =A11+1 -> 2 | B24: Collection Sub & Generator Tie-Line
B25: Is this a Demand Response Resource? | J25: (select from drop-down)
B26: (if yes, skip the remainder of Question 2)
B27: Collection Substation Quantity
B28: Main Power Transformer Quantity
B29: MPT Manufacturer
B30: MPT Power Rating (MW) (ONAN/ONAF/ONAF)
B31: MPT Voltage Ratings (kV) (Low/High)
B32: MPT Planned Order Date
B33: MPT Planned Delivery Date
B34: Capacitor Bank Quantity & Total Rating (kVAR)
B35: Utility Providing Retail Service at Collection Substation
B36: Length of Gen-Tie to Point of Interconnect (miles)
B37: Gen-Tie Line Status
B38: Describe MPT procurement plan including existing supply agreements, planned solicitations, procurement schedule, etc:
A41: 3) | B41: Estimated Substantial Completion Date (hybrid proposals only) (e.g., common date of overall project substantial completion since project contains multiple generation types/may contain multiple CODs)
A43: 4) | B43: Estimated Useful Life of Resource at COD (years)
A45: 5) | B45: Demand Response (DR) Summary | C45: DR Type 1 | E45: DR Type 2 | G45: DR Type 3 | I45: DR Type 4
B46: Is this any other resource type besides DR? | J46: (select from drop-down)
B47: (if "Yes", skip the remainder of Question 5)
B48: Customer Sector Targeted | J48: (select from drop-down)
B49: Maximum Controllable Hours Per Year (i.e. maximum hours per year resource is available)
B50: Maximum Number of Control Events Per Year
...

Sheet Black Start Inputs
A1: Black Start Inputs
A2: ='Applicant Info and References'!B2 -> 800 MW Docket
B3: Who Should Complete this Form: This form is optional. It is only intended for applications that optionally choose to propose one or more black start generating units. The information below is the initial step in verification of Attributes 17-31 in the matrix approved by the MPUC on 10/05/2023.
A7: 1) | B7: Black Start Proposal Type
B8: (select from menu) | C8: Note: If "PPA" is selected, please complete question 5) in addition to the rest of your response.
A11: 2) | B11: Black Start Generating Unit 1, Technical Summary
B13: Description
B14: Generation Type (select from menu)
B15: If "Other" Type, please describe
B16: Manufacturer & Model Unit/Type
B17: Is this Unit Currently Registered with MISO as a Blackstart Resource?
B18: Installed Capacity (ICAP) (MW)
B19: Proposed black start MW
B20: For Combined Cycle Units Only: Is Simple Cycle Available?
B21: For Combined Cycle Units Only: Is Steam bypass available?
B22: For Combined Cycle Units Only: Percent of CT output allowed by steam bypass
B23: Primary Fuel Type
B24: Secondary Fuel Type, if applicable
... B32: Emission limitations for operation below minimum (e.g. start-up time to reach air permit compliance)
A35: 2) | B35: Black Start Generating Unit 2, Technical Summary
B37: Description
B38: Generation Type (select from menu)
B39: If "Other" Type, please describe
B40: Manufacturer & Model Unit/Type
B41: Is this Unit Currently Registered with MISO as a Blackstart Resource?
B42: Installed Capacity (ICAP) (MW)
B43: Proposed black start MW
B44: For Combined Cycle Units Only: Is Simple Cycle Available?
B45: For Combined Cycle Units Only: Is Steam bypass available?
B46: For Combined Cycle Units Only: Percent of CT output allowed by steam bypass
B47: Primary Fuel Type
B48: Secondary Fuel Type, if applicable
... B56: Emission limitations for operation below minimum (e.g. start-up time to reach air permit compliance)
A59: 3) | B59: Black Start Generating Unit 3, Technical Summary
B61: Description
B62: Generation Type (select from menu)
B63: If "Other" Type, please describe
B64: Manufacturer & Model Unit/Type
B65: Is this Unit Currently Registered with MISO as a Blackstart Resource?
B66: Installed Capacity (ICAP) (MW)
...

Sheet GenAnnual
B1: Energy Production Profile - Annual
B2: ='Applicant Info and References'!B2 -> 800 MW Docket
B4: Who Should Complete this Form: This form is intended for all applications with physical generation or energy injection facilities (i.e., Generation or Storage systems). Demand Response applications should not complete this form. The information below provides further detail about the commercially-operable portion of each proposal to prepare for the modeling and evaluation of the attribute matrix approved by the Minnesota PUC on 10/05/2023, including but not limited to information related to attributes 6, 7, 11, 14, 36, 37, 38, 40 and 41.
B6: ADDITIONAL NOTE 1: Information about black start generating units that are not also commercially operable should be provided on the "Black Start Inputs" form, not this form.
B7: 30.43 | C7: 16.57 | D7: 16.57 | E7: 16.57 | F7: 16.57
B8: Use the prompts in the orange cells below to complete the applicable annual energy summary for each commercially operable resource type in the proposal.
B11: For Physical Generation Facilities (Wind, Solar, Hydro): The "Expected Generation at POI" columns in question 3) below are to be calculated at the Point of Interconnection for each year of the project's expected life (or for Power Purchase Agreements, each year of the proposed contract term). For Power Purchase Agreements, the MWH reported below must align with the Committed Energy in the proposed contract and will also correspond with the Energy Payment Rate ($/MWH) proposed on the "Renew Storage PPA Pricing" tab. Year 1 of Wind and Solar systems proposed must be set at the estimates provided on the WPower Curve and WResource tabs of this document (for wind) or PVSyst Inputs tab for this document (for solar).
B14: Instructions for the "Table for Storage Systems" below:
B15: Round Trip Efficiency (RTE) is the amount of Battery Energy discharged by the BESS relative to the amount of Charging Energy, measured at the Battery Storage System Electric Metering Device. All proposal types: Power Purchase Agreement (PPA), Build-Transfer, and Company Self-Build, must complete the RTE column.
B16: Storage Systems in Proposals for Company Owned projects (either Build-Transfer or Company Self-Build): Complete both the "With Augmentation" and "Without Augmentation" columns. Sufficient initial overbuild shall be included to maintain capacity at 100% of design for the first 36 months in the Without Augmentation column. In the With Augmentation column, include a recomended augmentation schedule even though the augmentation cost would be the Company's responsibility.
B17: Storage Systems in Proposals for Power Purchase Agreements: Please complete either the "With Augmentation" column or the "Without Augmentation" column to correspond with the planned design for the proposed storage application of your application (both may be completed if both design options are to be offered as separately priced options). Should "Without Augmentation" be chosen, sufficient initial overbuild shall be included to maintain capacity at 100% of design for the first 36 months in the Without Augmentation column. Both columns will align with the pricing options on the Renew Storage PPA Pricing tab and may not exceed 15 years in length. For any hybrid proposals (i.e., solar + storage, wind + storage, etc), the "Expected Generation at POI" MWH provided below for the physical generation component of your application (i.e., wind or solar component) should correspond to the Committed Energy in the proposed the Power Purchase Agreement and the Energy Payment Rate on the "Renew Storage PPA Pricing" tab.
A20: 1 | B20: Max Unit Starts per Year - Physical Fuel Plants (#) | G20: per Unit/CT
A21: 2) | B21: Post COD Generation and Storage Capacity
C23: Tech Type 1 | D23: Tech Type 2 | E23: Tech Type 3 | F23: Tech Type 4
C24: =IF('GenTech&BOP'!C11="","Not Used",'GenTech&BOP'!C11) -> Not Used | D24: =IF('GenTech&BOP'!E11="","Not Used",'GenTech&BOP'!E11) -> Not Used | E24: =IF('GenTech&BOP'!G11="","Not Used",'GenTech&BOP'!G11) -> Not Used | F24: =IF('GenTech&BOP'!I11="","Not Used",'GenTech&BOP'!I11) -> Not Used | G24: Table for Storage Systems Only (see instructions above)
B25: Operational Year | C25: =IF(OR(C$24="Storage - Battery",C$24="Storage - Other"),"Use Storage Table to the Right",IF(C$24="Demand Response","N/A",IF(C$24<>"Gas Thermal","Expected Generation at POI - Include Degradation (MWh)","N/A"))) -> Expected Generation at POI - Include Degradation (MWh) | D25: =IF(OR(D$24="Storage - Battery",D$24="Storage - Other"),"Use Storage Table to the Right",IF(D$24="Demand Response","N/A",IF(D$24<>"Gas Thermal","Expected Generation at POI - Include Degradation (MWh)","N/A"))) -> Expected Generation at POI - Include Degradation (MWh) | E25: =IF(OR(E$24="Storage - Battery",E$24="Storage - Other"),"Use Storage Table to the Right",IF(E$24="Demand Response","N/A",IF(E$24<>"Gas Thermal","Expected Generation at POI - Include Degradation (MWh)","N/A"))) -> Expected Generation at POI - Include Degradation (MWh) | F25: =IF(OR(F$24="Storage - Battery",F$24="Storage - Other"),"Use Storage Table to the Right",IF(F$24="Demand Response","N/A",IF(F$24<>"Gas Thermal","Expected Generation at POI - Include Degradation (MWh)","N/A"))) -> Expected Generation at POI - Include Degradation (MWh) | G25: Storage Capacity at POI - Without Augmentation (MWh) | H25: Storage Capacity at POI - With Augmentation (MWh) | I25: Round Trip Efficiency (%)
B26: 1
B27: =B26+1 -> 2
B28: =B27+1 -> 3
B29: =B28+1 -> 4
B30: =B29+1 -> 5
B31: =B30+1 -> 6
B32: =B31+1 -> 7
B33: =B32+1 -> 8
B34: =B33+1 -> 9
B35: =B34+1 -> 10
B36: =B35+1 -> 11
B37: =B36+1 -> 12
B38: =B37+1 -> 13
... B65: =B64+1 -> 40
A67: 3) | B67: Notes

Sheet D1-PricingOwn_T1
B1: D1 Technology 1 - Build-Transfer and Self-Build Application Pricing (Pre-COD)
B2: ='Applicant Info and References'!B2 -> 800 MW Docket
B3: Who Should Complete this Form: This form is intended for all Build-Transfer and Company Self-Build applications. The information below provides further detail about the commercially-operable portion of each proposal to prepare for the modeling and evaluation of the attribute matrix approved by the Minnesota PUC on 10/05/2023, including but not limited to information related to attributes 36, 37, 38, 40, 41. See the instructions below for further details.
B6: General Directions & Pricing Assumptions
B7: For Hybrid projects (projects involving more than one resource type) a seperate sheet is required for each resource type/technology; however if some costs are not able to be itemized by resource type (i.e., some interconnection costs), provide these costs on the tab for Technology 1 only; do not repeat the same cost in subsequent D1 tabs. If the proposal contains an electrolyzer, all electrolyzer costs must be broken out separately on the the tab D1-PricingOwn_Elec and should not be included on any other D1 tabs.
B8: All dollar amounts should be entered in nominal dollars. Notes should include all pricing assumptions, including federal tax incentives applicable to the proposed project that would transfer upon sale of the asset. Subjects covered in the "Notes" should also be included in the application.
B11: Progress Payments - Payments can be proposed to occur in a periodic or single lump-sum manner, subject to the following constraints: 1) Seller provides sufficient credit support as stipulated in term sheet; 2) No Progress payments will be made prior to achievement of the Firm Date, as defined in the applicable Term Sheet; 3) Progress payments must not exceed 80% of the total purchase price prior to closing. In order for any proposed periodic payments to be incorporated into modeling, both Payment Dates and $ amounts must be included.
B15: Payment Categories in Table 1) below are as follows:
B16: 1) Generation Equipment Related Payments - All project costs up to the collection substation.
B17: 2) Electrical Equipment Related Payments - All project costs from the collection substation to the POI (i.e., Collector sub + step up transformer cost + any gen ties to POI). Note: if some electrical equipment costs are not able to be itemized for a type for a hybrid application, provide these costs on the tab for Technology 1 only; do not repeat the same cost in subsequent D1 tabs.
B19: 3) Transmission Interconnection Related Payments - Known or estimated MISO upgrade/interconnection costs. Note; if some interconnection costs are not able to be itemized by resource type for a hybrid application, provide the interconnection costs on the Tab for Technology 1 only; do not repeat the same cost in subsequent D1 tabs.
B20: 4) Land Purchase Payments - Cost of any purchased land, i.e. O&M building lot. Exclude all leases.
B21: 5) All Other Project-Related Payments - Any other costs to be incurred by Xcel Energy prior to the commercial operation data of the proposed technology. NOTE: If the costs of the gas interconnection are included in the proposal, provide the proposed payments in this column and mention this inclusion in the Notes section below. Do not include gas interconnection costs in the "Generation Equipment Related Payments" or "Electrical Equipment Related Payments" categories.
A23: 1 | B23: Pre-COD Construction & Milestone Payments for Technology 1:
B25: Description | C25: Payment Date (mm/dd/yyyy) | D25: Generation Equipment Related Payments ($) | E25: Electrical Equipment Related Payments ($) | F25: Transmission Interconnection Related Payments ($) | G25: Land Purchase Payments ($) | H25: All Other Project-Related Payments ($) (see instructions above) | I25: Total Payments ($)
I26: =SUM(E26:H26) -> 0
I27: =SUM(E27:H27) -> 0
I28: =SUM(E28:H28) -> 0
I29: =SUM(E29:H29) -> 0
I30: =SUM(E30:H30) -> 0
I31: =SUM(E31:H31) -> 0
I32: =SUM(E32:H32) -> 0
I33: =SUM(E33:H33) -> 0
I34: =SUM(E34:H34) -> 0
I35: =SUM(E35:H35) -> 0
I36: =SUM(E36:H36) -> 0
I37: =SUM(E37:H37) -> 0
... I65: =SUM(E65:H65) -> 0
A67: 2 | B67: Notes to Pricing Assumptions for Technology 1
A71: 3) | B71: Non-ITC/PTC | C71: Describe generally the Non-ITC/PTC tax representation and warranties, and covenants to be provided.
A75: 4) | B75: Special Purpose Vehicle | C75: Is a newly formed special purpose vehicle (SPV) planned to hold the project? If so, state whether a transfer of that SPV is contemplated.
A79: 5) | B79: ITC/PTC questions - Answer these questions for Technology 1 only
B81: Is the Technology 1 as reported on this tab expected to qualify for federal tax credits (Investment Tax Credit (ITC) and/or Production Tax Credit (PTC))?
H82: (select from drop down)
B84: If project is not expected to qualify for tax credits, the rest of the ITC/PTC section may be left blank.
B85: Applicant understands that unless specified otherwise in the Notes to Tax Credits below on this tab, for modeling purposes the Company will interpret start of construction as the date provided on the Construction Milestone tab for Technology 1.
H87: (select from drop down)
B89: Applicant understands that unless specified otherwise in the Notes to Tax Credits below on this tab, for modeling purposes the Company will interpret the placed in service date as the date provided on the Construction Milestone tab for commercial operation for Technology 1.
H91: (select from drop down)
B94: Which beginning of construction criteria will be satisfied for Technology 1, the physical work test or the 5% safe harbor? | H94: (select from drop down)
...

Sheet D1_T2
B1: D1 Technology 2 - Pricing for Build Transfers and Self-Build Applications
B2: ='Applicant Info and References'!B2 -> 800 MW Docket
B3: Who Should Complete this Form: This form is intended for Build-Transfer and Company Self-Build applications of all types in which more than one resource type/technology is proposed within a single application. The information below provides further detail to prepare for the modeling and evaluation of the attribute matrix approved by the Minnesota PUC on 10/05/2023, including but not limited to information related to attributes 36, 37, 38, 40, 41. See the instructions below for further details.
B6: General Directions & Pricing Assumptions
B7: For Hybrid projects (projects involving more than one resource type) a seperate sheet is required for each resource type/technology; however if some costs are not able to be itemized by resource type (i.e., some interconnection costs), provide these costs on the tab for Technology 1 only; do not repeat the same cost in subsequent D1 tabs. If the proposal contains an electrolyzer, all electrolyzer costs must be broken out separately on the the tab D1-PricingOwn_Elec and should not be included on any other D1 tabs.
B8: All dollar amounts should be entered in nominal dollars. Notes should include all pricing assumptions, including federal tax incentives applicable to the proposed project that would transfer upon sale of the asset. Subjects covered in the "Notes" should also be included in the application.
B11: Progress Payments - Payments can be proposed to occur in a periodic or single lump-sum manner, subject to the following constraints: 1) Seller provides sufficient credit support as stipulated in term sheet; 2) No Progress payments will be made prior to achievement of the Firm Date, as defined in the applicable Term Sheet; 3) Progress payments must not exceed 80% of the total purchase price prior to closing. In order for any proposed periodic payments to be incorporated into modeling, both Payment Dates and $ amounts must be included.
B15: Payment Categories in Table 1) below are as follows:
B16: 1) Generation Equipment Related Payments - All project costs up to the collection substation.
B17: 2) Electrical Equipment Related Payments - All project costs from the collection substation to the POI (i.e., Collector sub + step up transformer cost + any gen ties to POI). Note: if some electrical equipment costs are not able to be itemized for a type for a hybrid application, provide these costs on the tab for Technology 1 only; do not repeat the same cost in subsequent D1 tabs.
B19: 3) Transmission Interconnection Related Payments - Known or estimated MISO upgrade/interconnection costs. Note; if some interconnection costs are not able to be itemized by resource type for a hybrid application, provide the interconnection costs on the Tab for Technology 1 only; do not repeat the same cost in subsequent D1 tabs.
B20: 4) Land Purchase Payments - Cost of any purchased land, i.e. O&M building lot. Exclude all leases.
B21: 5) All Other Project-Related Payments - Any other costs to be incurred by Xcel Energy prior to the commercial operation data of the proposed technology. NOTE: If the costs of the gas interconnection are included in the proposal, provide the proposed payments in this column and mention this inclusion in the Notes section below. Do not include gas interconnection costs in the "Generation Equipment Related Payments" or "Electrical Equipment Related Payments" categories.
A23: 1 | B23: Pre-COD Construction & Milestone Payments for Technology 2:
B24: Description | C24: Payment Date (mm/dd/yyyy) | D24: Generation Equipment Related Payments ($) | E24: Electrical Equipment Related Payments ($) | F24: Transmission Interconnection Related Payments ($) | G24: Land Purchase Payments ($) | H24: All Other Project-Related Payments ($) (see instructions above) | I24: Total Payments ($)
I25: =SUM(D25:H25) -> 0
I26: =SUM(D26:H26) -> 0
I27: =SUM(D27:H27) -> 0
I28: =SUM(D28:H28) -> 0
I29: =SUM(D29:H29) -> 0
I30: =SUM(D30:H30) -> 0
I31: =SUM(D31:H31) -> 0
I32: =SUM(D32:H32) -> 0
I33: =SUM(D33:H33) -> 0
I34: =SUM(D34:H34) -> 0
I35: =SUM(D35:H35) -> 0
I36: =SUM(D36:H36) -> 0
... I64: =SUM(D64:H64) -> 0
A66: =+A23+1 -> 2 | B66: Notes to Pricing Assumptions for Technology 2
A69: 3) | B69: Non-ITC/PTC | C69: Describe generally the Non-ITC/PTC tax representation and warranties, and covenants to be provided.
A73: 4) | B73: Special Purpose Vehicle | C73: Is a newly formed special purpose vehicle (SPV) planned to hold the project? If so, state whether a transfer of that SPV is contemplated.
A77: 5) | B77: ITC/PTC questions - Answer these questions for Technology 1 only
B79: Is the Technology 1 as reported on this tab expected to qualify for federal tax credits (Investment Tax Credit (ITC) and/or Production Tax Credit (PTC))?
H80: (select from drop down)
B82: If project is not expected to qualify for tax credits, the rest of the ITC/PTC section may be left blank.
B83: Applicant understands that unless specified otherwise in the Notes to Tax Credits below on this tab, for modeling purposes the Company will interpret start of construction as the date provided on the Construction Milestone tab for Technology 1.
H85: (select from drop down)
B87: Applicant understands that unless specified otherwise in the Notes to Tax Credits below on this tab, for modeling purposes the Company will interpret the placed in service date as the date provided on the Construction Milestone tab for commercial operation for Technology 1.
H89: (select from drop down)
B92: Which beginning of construction criteria will be satisfied for Technology 1, the physical work test or the 5% safe harbor? | H92: (select from drop down)
...

Sheet D1_T3
B1: D1 Technology 3 - Pricing for Build Transfers and Self-Build Applications
B2: ='Applicant Info and References'!B2 -> 800 MW Docket
B3: Who Should Complete this Form: This form is intended for Build-Transfer and Company Self-Build applications in which more than two resource types/technologies is proposed within a single application. The information below provides further detail to prepare for the modeling and evaluation of the attribute matrix approved by the Minnesota PUC on 10/05/2023, including but not limited to information related to attributes 36, 37, 38, 40, 41. See the instructions below for further details.
B6: General Directions & Pricing Assumptions
B7: For Hybrid projects (projects involving more than one resource type) a seperate sheet is required for each resource type/technology; however if some costs are not able to be itemized by resource type (i.e., some interconnection costs), provide these costs on the tab for Technology 1 only; do not repeat the same cost in subsequent D1 tabs. If the proposal contains an electrolyzer, all electrolyzer costs must be broken out separately on the the tab D1-PricingOwn_Elec and should not be included on any other D1 tabs.
B8: All dollar amounts should be entered in nominal dollars. Notes should include all pricing assumptions, including federal tax incentives applicable to the proposed project that would transfer upon sale of the asset. Subjects covered in the "Notes" should also be included in the application.
B11: Progress Payments - Payments can be proposed to occur in a periodic or single lump-sum manner, subject to the following constraints: 1) Seller provides sufficient credit support as stipulated in term sheet; 2) No Progress payments will be made prior to achievement of the Firm Date, as defined in the applicable Term Sheet; 3) Progress payments must not exceed 80% of the total purchase price prior to closing. In order for any proposed periodic payments to be incorporated into modeling, both Payment Dates and $ amounts must be included.
B15: Payment Categories in Table 1) below are as follows:
B16: 1) Generation Equipment Related Payments - All project costs up to the collection substation.
B17: 2) Electrical Equipment Related Payments - All project costs from the collection substation to the POI (i.e., Collector sub + step up transformer cost + any gen ties to POI). Note: if some electrical equipment costs are not able to be itemized for a type for a hybrid application, provide these costs on the tab for Technology 1 only; do not repeat the same cost in subsequent D1 tabs.
B19: 3) Transmission Interconnection Related Payments - Known or estimated MISO upgrade/interconnection costs. Note; if some interconnection costs are not able to be itemized by resource type for a hybrid application, provide the interconnection costs on the Tab for Technology 1 only; do not repeat the same cost in subsequent D1 tabs.
B20: 4) Land Purchase Payments - Cost of any purchased land, i.e. O&M building lot. Exclude all leases.
B21: 5) All Other Project-Related Payments - Any other costs to be incurred by Xcel Energy prior to the commercial operation data of the proposed technology. NOTE: If the costs of the gas interconnection are included in the proposal, provide the proposed payments in this column and mention this inclusion in the Notes section below. Do not include gas interconnection costs in the "Generation Equipment Related Payments" or "Electrical Equipment Related Payments" categories.
A23: 1 | B23: Pre-COD Construction & Milestone Payments for Technology 3:
B24: Description | C24: Payment Date (mm/dd/yyyy) | D24: Generation Equipment Related Payments ($) | E24: Electrical Equipment Related Payments ($) | F24: Transmission Interconnection Related Payments ($) | G24: Land Purchase Payments ($) | H24: All Other Project-Related Payments ($) (see instructions above) | I24: Total Payments ($)
I25: =SUM(D25:H25) -> 0
I26: =SUM(D26:H26) -> 0
I27: =SUM(D27:H27) -> 0
I28: =SUM(D28:H28) -> 0
I29: =SUM(D29:H29) -> 0
I30: =SUM(D30:H30) -> 0
I31: =SUM(D31:H31) -> 0
I32: =SUM(D32:H32) -> 0
I33: =SUM(D33:H33) -> 0
I34: =SUM(D34:H34) -> 0
I35: =SUM(D35:H35) -> 0
I36: =SUM(D36:H36) -> 0
... I64: =SUM(D64:H64) -> 0
A66: =+A23+1 -> 2 | B66: Notes for Pricing Assumptions for Technology 3
A69: 3) | B69: Non-ITC/PTC | C69: Describe generally the Non-ITC/PTC tax representation and warranties, and covenants to be provided.
A73: 4) | B73: Special Purpose Vehicle | C73: Is a newly formed special purpose vehicle (SPV) planned to hold the project? If so, state whether a transfer of that SPV is contemplated.
A77: 5) | B77: ITC/PTC questions - Answer these questions for Technology 1 only
B79: Is the Technology 1 as reported on this tab expected to qualify for federal tax credits (Investment Tax Credit (ITC) and/or Production Tax Credit (PTC))?
H80: (select from drop down)
B82: If project is not expected to qualify for tax credits, the rest of the ITC/PTC section may be left blank.
B83: Applicant understands that unless specified otherwise in the Notes to Tax Credits below on this tab, for modeling purposes the Company will interpret start of construction as the date provided on the Construction Milestone tab for Technology 1.
H85: (select from drop down)
B87: Applicant understands that unless specified otherwise in the Notes to Tax Credits below on this tab, for modeling purposes the Company will interpret the placed in service date as the date provided on the Construction Milestone tab for commercial operation for Technology 1.
H89: (select from drop down)
B92: Which beginning of construction criteria will be satisfied for Technology 1, the physical work test or the 5% safe harbor? | H92: (select from drop down)
...

Sheet D1_T4
B1: D1 Technology 4 - Pricing for Build Transfers and Self-Build Applications
B2: ='Applicant Info and References'!B2 -> 800 MW Docket
B3: Who Should Complete this Form: This form is intended for Build-Transfer and Company Self-Build applications in which more than three resource types/technologies is proposed within a single application. The information below provides further detail to prepare for the modeling and evaluation of the attribute matrix approved by the Minnesota PUC on 10/05/2023, including but not limited to information related to attributes 36, 37, 38, 40, 41. See the instructions below for further details.
B6: General Directions & Pricing Assumptions
B7: For Hybrid projects (projects involving more than one resource type) a seperate sheet is required for each resource type/technology; however if some costs are not able to be itemized by resource type (i.e., some interconnection costs), provide these costs on the tab for Technology 1 only; do not repeat the same cost in subsequent D1 tabs. If the proposal contains an electrolyzer, all electrolyzer costs must be broken out separately on the the tab D1-PricingOwn_Elec and should not be included on any other D1 tabs.
B8: All dollar amounts should be entered in nominal dollars. Notes should include all pricing assumptions, including federal tax incentives applicable to the proposed project that would transfer upon sale of the asset. Subjects covered in the "Notes" should also be included in the application.
B11: Progress Payments - Payments can be proposed to occur in a periodic or single lump-sum manner, subject to the following constraints: 1) Seller provides sufficient credit support as stipulated in term sheet; 2) No Progress payments will be made prior to achievement of the Firm Date, as defined in the applicable Term Sheet; 3) Progress payments must not exceed 80% of the total purchase price prior to closing. In order for any proposed periodic payments to be incorporated into modeling, both Payment Dates and $ amounts must be included.
B15: Payment Categories in Table 1) below are as follows:
B16: 1) Generation Equipment Related Payments - All project costs up to the collection substation.
B17: 2) Electrical Equipment Related Payments - All project costs from the collection substation to the POI (i.e., Collector sub + step up transformer cost + any gen ties to POI). Note: if some electrical equipment costs are not able to be itemized for a type for a hybrid application, provide these costs on the tab for Technology 1 only; do not repeat the same cost in subsequent D1 tabs.
B19: 3) Transmission Interconnection Related Payments - Known or estimated MISO upgrade/interconnection costs. Note; if some interconnection costs are not able to be itemized by resource type for a hybrid application, provide the interconnection costs on the Tab for Technology 1 only; do not repeat the same cost in subsequent D1 tabs.
B20: 4) Land Purchase Payments - Cost of any purchased land, i.e. O&M building lot. Exclude all leases.
B21: 5) All Other Project-Related Payments - Any other costs to be incurred by Xcel Energy prior to the commercial operation data of the proposed technology. NOTE: If the costs of the gas interconnection are included in the proposal, provide the proposed payments in this column and mention this inclusion in the Notes section below. Do not include gas interconnection costs in the "Generation Equipment Related Payments" or "Electrical Equipment Related Payments" categories.
A23: 1 | B23: Pre-COD Construction & Milestone Payments for Technology 4:
B24: Description | C24: Payment Date (mm/dd/yyyy) | D24: Generation Equipment Related Payments ($) | E24: Electrical Equipment Related Payments ($) | F24: Transmission Interconnection Related Payments ($) | G24: Land Purchase Payments ($) | H24: All Other Project-Related Payments ($) (see instructions above) | I24: Total Payments ($)
I25: =SUM(D25:H25) -> 0
I26: =SUM(D26:H26) -> 0
I27: =SUM(D27:H27) -> 0
I28: =SUM(D28:H28) -> 0
I29: =SUM(D29:H29) -> 0
I30: =SUM(D30:H30) -> 0
I31: =SUM(D31:H31) -> 0
I32: =SUM(D32:H32) -> 0
I33: =SUM(D33:H33) -> 0
I34: =SUM(D34:H34) -> 0
I35: =SUM(D35:H35) -> 0
I36: =SUM(D36:H36) -> 0
... I64: =SUM(D64:H64) -> 0
A66: =+A23+1 -> 2 | B66: Notes to Pricing Assumptions for Technology 4
A70: 3) | B70: Non-ITC/PTC | C70: Describe generally the Non-ITC/PTC tax representation and warranties, and covenants to be provided.
A74: 4) | B74: Special Purpose Vehicle | C74: Is a newly formed special purpose vehicle (SPV) planned to hold the project? If so, state whether a transfer of that SPV is contemplated.
A78: 5) | B78: ITC/PTC questions - Answer these questions for Technology 1 only
B80: Is the Technology 1 as reported on this tab expected to qualify for federal tax credits (Investment Tax Credit (ITC) and/or Production Tax Credit (PTC))?
H81: (select from drop down)
B83: If project is not expected to qualify for tax credits, the rest of the ITC/PTC section may be left blank.
B84: Applicant understands that unless specified otherwise in the Notes to Tax Credits below on this tab, for modeling purposes the Company will interpret start of construction as the date provided on the Construction Milestone tab for Technology 1.
H86: (select from drop down)
B88: Applicant understands that unless specified otherwise in the Notes to Tax Credits below on this tab, for modeling purposes the Company will interpret the placed in service date as the date provided on the Construction Milestone tab for commercial operation for Technology 1.
H90: (select from drop down)
B93: Which beginning of construction criteria will be satisfied for Technology 1, the physical work test or the 5% safe harbor? | H93: (select from drop down)
...

Sheet D1_PricingOwn_Elec
B1: D1 Electrolyzers Only - Pricing for Build Transfers and Self-Build Applications
B2: ='Applicant Info and References'!B2 -> 800 MW Docket
B3: Who Should Complete this Form: This form is intended for Build-Transfer and Company Self-Build applications in which an electrolyzer is proposed as part of the application. The information below provides further detail to prepare for the modeling and evaluation of the attribute matrix approved by the Minnesota PUC on 10/05/2023, including but not limited to information related to attributes 34, 35, 36, 37, 38, 40, and 41. See the instructions below for further details.
B6: General Directions & Pricing Assumptions
B7: For Hybrid projects (projects involving more than one resource type) a seperate sheet is required for each resource type/technology. All pricing is expected to be fully compliant with applicable Technical Requirements and Model Term Sheet for the Purchase and Sale of an operational Project. Pricing that assumes any exceptions must have the exceptions stated in Notes below and in Application Narrative. Payments can be made in a periodic or single lump-sum manner. All dollar amounts should be entered in nominal dollars. Notes should include all pricing assumptions, including federal tax incentives applicable to the proposed project that would transfer upon sale of the asset. Subjects covered should also be included in the application narrative.
B9: Progress Payments - Payments can be proposed to occur in a periodic or single lump-sum manner, subject to the following constraints: 1) Seller provides sufficient credit support as stipulated in term sheet; 2) No Progress payments will be made prior to achievement of the Firm Date, as defined in the applicable Term Sheet; 3) Progress payments must not exceed 80% of the total purchase price prior to closing. In order for any proposed periodic payments to be incorporated into modeling, both Payment Dates and $ amounts must be included.
B13: Payment Categories in Table 1) below are as follows:
B14: 1) Generation Equipment Related Payments - All project costs up to the collection substation.
B15: 2) Electrical Equipment Related Payments - All project costs from the collection substation to the POI (i.e., Collector sub + step up transformer cost + any gen ties to POI + any known or estimated MISO upgrade/interconnection costs). Note: if some electrical equipment or interconnection costs are not able to be itemized by resource type for a hybrid application, provide these costs on the tab for Technology 1 only; do not repeat the same cost in subsequent D1 tabs.
B17: 3) Land Purchase Payments - Cost of any purchased land, i.e. O&M building lot. Exclude all leases.
B18: 4) All Other Project-Related Payments - Any other costs to be incurred by Xcel Energy prior to the commercial operation data of the proposed technology. NOTE: If the costs of the gas interconnection are included in the proposal, provide the proposed payments in this column and mention this inclusion in the Notes section below. Do not include gas interconnection costs in the "Generation Equipment Related Payments" or "Electrical Equipment Related Payments" categories.
A20: 1 | B20: Pre-COD Construction & Milestone Payments for Technology 4: Storage - Other
B21: Description | C21: Payment Date (mm/dd/yyyy) | D21: Generation Equipment Related Payments ($) | E21: Electrical Equipment Related Payments ($) | F21: Land Purchase Payments ($) | G21: All Other Project-Related Payments ($) (see instructions above) | H21: Total Payments ($)
H22: =SUM(D22:G22) -> 0
H23: =SUM(D23:G23) -> 0
H24: =SUM(D24:G24) -> 0
H25: =SUM(D25:G25) -> 0
H26: =SUM(D26:G26) -> 0
H27: =SUM(D27:G27) -> 0
H28: =SUM(D28:G28) -> 0
H29: =SUM(D29:G29) -> 0
H30: =SUM(D30:G30) -> 0
H31: =SUM(D31:G31) -> 0
H32: =SUM(D32:G32) -> 0
H33: =SUM(D33:G33) -> 0
... H61: =SUM(D61:G61) -> 0
A63: =+A20+1 -> 2 | B63: Notes

Sheet Renew Storage PPA Pricing
B1: Pricing for Renewable and/or Storage Power Purchase Agreement
B2: ='Applicant Info and References'!B2 -> 800 MW Docket
B3: Who Should Complete this Form: This form is intended for applications proposing the following types of Power Purchase Agreements (PPAs): wind, solar, wind + storage, solar + storage, standalone storage, and other combination of these technologies. The information below provides further detail to prepare for the modeling and evaluation of the attribute matrix approved by the Minnesota PUC on 10/05/2023, including but not limited to information related to attributes 6-8, 11, 12, 14, 36, 37, 38, 40 and 41 for some or all applications. See the instructions below for further details.
B6: Finance Lease Consideration - The Company is aware that certain contract approaches – especially with respect to battery energy storage – could result in either (i) a contract that must be accounted for by the Company as a finance lease or an operating lease pursuant to Financial Accounting Standards Board (“FASB”) Accounting Standards Codification (“ASC”) 842, or (ii) consolidation of the seller or assets owned by the seller onto the Company’s balance sheet pursuant to the variable interest entity requirements of FASB ASC 810.
B10: The Company is unwilling to be subject to any accounting or tax treatment that results from a PPA’s finance lease or consolidated variable interest entity classification. As a result, in their data intake form below(s), applicants may (i) state that the applicant has considered applicable accounting standards in regard to finance leases and variable interest entities, (ii) summarize the applicant’s proposal to address these issues, and (iii) state that, to the applicant’s knowledge and belief, the application will not result in such treatment as of the date of the proposal.
B15: General Directions & Pricing Assumptions: All dollar amounts should be entered in nominal dollars. Prices must contain a fixed base price. Do not submit proposals with variable base year pricing or variable escalators. All tax assumptions included in the rates below should be described in the Project Description Narrative Topic and in the Notes section on this form. Please complete the pricing table below that align with the proposed PPA type:
B17: Solar, Hydro, and Wind PPAs: Please complete the Energy Payment Rate for the number of years in the proposed PPA term. The Committed Energy corresponding to this Energy Payment Rate is on the GenAnnual tab in the "Expected Generation at POI" column for the proposed solar, hydro, or wind generator.
B18: Standalone Storage PPAs: Please complete Capacity Payment Rate #1 (if the project is overbuilt and assumes no augmentation during the proposed term) and/or Capacity Payment Rate #2 (if the project assumes augmentation). Only one payment rate is necessary; although both may be completed as different proposed options for the project as discussed in the GenAnnual tab instructions. The proposed contract term may not exceed 15 years.
B19: Hybrid (Solar + Storage or Wind + Storage) PPAs: Please complete the Energy Payment Rate with pricing in $/MWH for energy from the renewable (solar, hydro, or wind) generation component of the hybrid asset only. For the storage component of the renewable asset, please complete Capacity Payment Rate #1 (if the project is overbuilt and assumes no augmentation during the proposed term) and/or Capacity Payment Rate #2 (if the project assumes augmentation). Only one payment rate is necessary; although both may be completed as different proposed options for the project. The proposed contract term for the storage component may not exceed 15 years.
A21: 2) | B21: Does the pricing below include an assumption that the project will qualify for the domestic content federal tax credit adder? | I21: (select from drop down)
A22: 3) | B22: Does the pricing below include an assumption that the project will qualify for the energy community federal tax credit adder? | I22: (select from drop down)
A23: 4) | B23: Does the pricing below include an assumption that the project will qualify for the low income communities tax credit adder? | I23: (select from drop down)
A26: 5) | B26: PPA Rates
C27: PPA Types: Wind, Solar, renewable component of Hybrid PPAs (see Hybrid PPA instructions above) | D27: PPA Types | G27: PPA Types: Standalone Storage, storage component of Hybrid PPAs (see Hybrid PPA instructions above)
B28: Operation Year | C28: Energy Payment Rate ($/MWh) | G28: Capacity Payment Rate #1 ($/kW-mo) | H28: Capacity Payment Rate #2 ($/kW-mo)
B29: 1
B30: 2
B31: 3
B32: 4
B33: 5
B34: 6
B35: 7
B36: 8
B37: 9
B38: 10
B39: 11
B40: 12
... B53: 25
A55: 6) | B55: Notes
A59: 7) | B59: Finance Lease (See the Finance Lease Consideration section at beginning of Form for details)
C61: Has the applicant considered applicable accounting standards in regard to finance leases and variable interest entities?
B64: Please summarize how the application addresses these issues.
C68: To the applicant’s knowledge and belief, the application will not result in such treatment as of the date of the proposal.

Sheet Physical Fuel PPA Pricing
B1: Pricing for Physical Fuel Power Purchase Agreement
B2: ='Applicant Info and References'!B2 -> 800 MW Docket
B4: Who Should Complete this Form: This form is intended for all applications proposing a power purchase agreement (PPA) for a resource that uses one or more physical fuels (i.e., natural gas, fuel oil, hydrogen, biomass, etc), except for Black Start service (please provide that PPA on the Black Start Inputs tab instead). The information below provides further detail to prepare for the modeling and evaluation of the attribute matrix approved by the Minnesota PUC on 10/05/2023, including but not limited to information related to attributes 6, 7, 11, 12, 13, 35, 36, 37, 38, 40, 41 and 45 for some or all applications. See the instructions below for further details.
B7: Finance Lease Consideration - The Company is aware that certain contract approaches – especially with respect to battery energy storage – could result in either (i) a contract that must be accounted for by the Company as a finance lease or an operating lease pursuant to Financial Accounting Standards Board (“FASB”) Accounting Standards Codification (“ASC”) 842, or (ii) consolidation of the seller or assets owned by the seller onto the Company’s balance sheet pursuant to the variable interest entity requirements of FASB ASC 810.
B11: The Company is unwilling to be subject to any accounting or tax treatment that results from a PPA’s finance lease or consolidated variable interest entity classification. As a result, in their data intake form below(s), applicants may (i) state that the applicant has considered applicable accounting standards in regard to finance leases and variable interest entities, (ii) summarize the applicant’s proposal to address these issues, and (iii) state that, to the applicant’s knowledge and belief, the application will not result in such treatment as of the date of the proposal.
B16: General Directions & Pricing Assumptions: Enter fixed payment rates (in $/kW-mo), if any, proposed for each year of the PPA in the column labeled Capacity Price. For each fuel, enter variable payment rates (e.g., variable O&M) in $/MWh, if any, proposed to be paid for each MWh of energy delivered to the point of delivery in the columns labeled Tolling Pmt Rate. Enter the proposed cost (in $ per turbine start), if any, to be paid for each requested turbine start successfully performed in the columns labeled Turbine Start Price.
B19: Pricing on this form should not include any costs for procuring, transporting or delivering fuel.
B21: All prices should be entered in nominal dollars. Prices may be fixed for the proposed term, escalate at a known and constant rate. Regardless, the first year's pricing must be fixed. Pricing on this form is assumed to contain within it the following Required Supplementary Data Items from the IRP Order Point B, 4-6, 8, and if relevant, IRP Order Point D on the Appendix C: Filing Requirements from the November 13 compliance filing.
B25: Capacity Availability Factor - Provide an estimate of the Capacity Availability Factor as defined in the Dispatchable Model PPA.
A27: 1 | B27: # of Turbines
B28: Subject to Start Price for a complete facility start. E.G. enter "2" for a 2x1 combined cycle.
D29: PRIMARY FUEL | F29: SECONDARY FUEL
A30: 2 | B30: Operation Year | C30: Capacity Price ($/kW-mo) | D30: Tolling Pmt Rate I ($/MWh) | E30: Turbine Start Price I ($/start) | F30: Tolling Pmt Rate II ($/MWh) | G30: Turbine Start Price II ($/start)
B31: 1
B32: 2
B33: 3
B34: 4
B35: 5
B36: 6
B37: 7
B38: 8
B39: 9
B40: 10
B41: 11
B42: 12
... B55: 25
A57: 3 | B57: Notes to Pricing for Physical Fuel Assets
A60: 4 | B60: Capacity Availability Factor
B61: The Capacity Availability Factor is defined as the rolling 12-month ratio of (Available Energy + Scheduled Maintenance Energy) to Period Energy; see the NSP Dispatchable Model PPA for a complete definition.
E63: Available Energy (MWh)
E64: Schedule Maintenance Energy (MWh)
E65: Period Energy (MWh)
E66: Capacity Availability Factor | G66: =IF(G65=0,0,(G63+G64)/G65) -> 0
A68: 5) | B68: Finance Lease (See the Finance Lease Consideration section at beginning of Form for details)
C70: Has the applicant considered applicable accounting standards in regard to finance leases and variable interest entities?
B73: Please summarize how the application addresses these issues.
C77: To the applicant’s knowledge and belief, the application will not result in such treatment as of the date of the proposal.

Sheet DR1-Demand Response PPA Pricing
B1: Pricing for Demand Response Power Purchase Agreement
B2: ='Applicant Info and References'!B2 -> 800 MW Docket
B3: Who Should Complete this Form: This form is intended for demand response applications proposing a Power Purchase Agreement (PPA). The information below provides further detail to prepare for the modeling and evaluation of the attribute matrix approved by the Minnesota PUC on 10/05/2023, including but not limited to information related to attributes 1, 7, 11, 12, 14, 33, 34, 35, 36, 37, 38, 40, 41 and 45 for some or all applications. See the instructions below for further details.
A7: 1) | B7: PPA Pricing Table
B9: General Directions & Pricing Assumptions - If more than one demand response technology is proposed, applicant may choose to complete a PPA pricing tab for each technology separately or complete PPA pricing tab(s) that include any combination of proposed demand response technologies. All dollar amounts should be entered in nominal dollars. Prices must contain a fixed base price, not variable base year pricing or variable escalators. Pricing should include the cost of union labor. All tax assumptions included in the rates below should be described in the Application Narrative and in the PPA Pricing Notes section on this form. MW amounts indicated on this form are assumed to be at the customer meter and should not include transmission or distribution system losses.
B11: Target Winter, Summer, and Spring & Fall Capacity (MW) - Provide the MW of load reduction that are targeted to be available for the Company's use for each year and season of the proposed project. Winter, Summer, Fall & Spring align with MISO definitions.
B13: Energy Reduction Payment Rate ($/MWh) - Enter payment rate for each year of the proposed PPA Term for actual load reduction achieved during initiated events.
B15: Capacity Payment Rate ($/kW-mo) - Enter the payment rate that will be paid to each Target MW available during each month of the proposed contract year.
B17: Identify which Technology Types on the "GenTech & BOP" tab are included in this pricing proposal:
C19: Technology 1 | E19: Technology 2 | G19: Technology 3 | I19: Technology 4
B21: Operation Year | C21: Target Winter Capacity (MW) | D21: Target Summer Capacity (MW) | E21: Target Fall & Spring Capacity (MW) | F21: Energy Reduction Payment Rate ($/MWh) | G21: Capacity Payment Rate ($/kW-mo)
B22: 1
B23: 2
B24: 3
B25: 4
B26: 5
B27: 6
B28: 7
B29: 8
B30: 9
B31: 10
B32: 11
B33: 12
... B36: 15
A38: 2) | B38: PPA Pricing Table Notes
A41: 3) | B41: PPA Availability Table
B43: Identify whether the Target MW proposed in 1) PPA Pricing Table above is intended to be available for dispatch during each hour below.
C46: WINTER | E46: SUMMER | G46: SPRING/FALL
B47: Hour Ending | C47: Weekends (Sat/Sun) | D47: Weekdays (Mon-Fri) | E47: Weekends (Sat/Sun) | F47: Weekdays (Mon-Fri) | G47: Weekends (Sat/Sun) | H47: Weekdays (Mon-Fri)
B48: 1
B49: =B48+1 -> 2
B50: =B49+1 -> 3
B51: =B50+1 -> 4
B52: =B51+1 -> 5
B53: =B52+1 -> 6
B54: =B53+1 -> 7
B55: =B54+1 -> 8
B56: =B55+1 -> 9
B57: =B56+1 -> 10
B58: =B57+1 -> 11
...

Sheet DR2-Demand Response PPA Pricing
B1: Form 6 - Pricing for Demand Response Power Purchase Agreement - Optional Tab
B2: ='Applicant Info and References'!B2 -> 800 MW Docket
B3: Who Should Complete this Form: This form is intended for demand response applications that propose multiple demand response products (technologies) with different PPA terms. The information below provides further detail to prepare for the modeling and evaluation of the attribute matrix approved by the Minnesota PUC on 10/05/2023, including but not limited to information related to attributes 1, 7, 11, 12, 14, 33, 34, 35, 36, 37, 38, 40, 41 and 45 for some or all applications. See the instructions below for further details.
A7: 1) | B7: PPA Pricing Table
B9: General Directions & Pricing Assumptions: If more than one demand response technology is proposed, applicant may choose to complete a PPA pricing tab for each technology separately or complete PPA pricing tab(s) that include any combination of proposed demand response technologies. All dollar amounts should be entered in nominal dollars. Prices must contain a fixed base price, not variable base year pricing or variable escalators. Pricing should include the cost of union labor. All tax assumptions included in the rates below should be described in the Application Narrative and in the PPA Pricing Notes section on this form. MW amounts indicated on this form are assumed to be at the customer meter and should not include transmission or distribution system losses.
B11: Target Winter, Summer, and Spring & Fall Capacity (MW) - Provide the MW of load reduction that are targeted to be available for the Company's use for each year and season of the proposed project. Winter, Summer, Fall & Spring align with MISO definitions.
B13: Energy Reduction Payment Rate ($/MWh) - Enter payment rate for each year of the proposed PPA Term for actual load reduction achieved during initiated events.
B15: Capacity Payment Rate ($/kW-mo) - Enter the payment rate that will be paid to each Target MW available during each month of the proposed contract year.
B17: Identify which Technology Types on the "GenTech & BOP" tab are included in this pricing proposal:
C19: Technology 1 | E19: Technology 2 | G19: Technology 3 | I19: Technology 4
B21: Operation Year | C21: Target Winter Capacity (MW) | D21: Target Summer Capacity (MW) | E21: Target Fall & Spring Capacity (MW) | F21: Energy Reduction Payment Rate ($/MWh) | G21: Capacity Payment Rate ($/kW-mo)
B22: 1
B23: 2
B24: 3
B25: 4
B26: 5
B27: 6
B28: 7
B29: 8
B30: 9
B31: 10
B32: 11
B33: 12
... B36: 15
A38: 2) | B38: PPA Pricing Table Notes
A41: 3) | B41: PPA Availability Table
B43: Identify whether the Target MW proposed in 1) PPA Pricing Table above is intended to be available for dispatch during each hour below.
C46: WINTER | E46: SUMMER | G46: SPRING/FALL
